BEGIN:VCALENDAR
VERSION:2.0
PRODID:-//Squarespace Inc/Squarespace 6//v6//EN
BEGIN:VEVENT
UID:5a67f832c830250731425d7e@squarespace.com
DTSTAMP:20180201T021131Z
DTSTART:20180202T230000Z
DTEND:20180203T000000Z
SUMMARY:Stretch and CHILL 
END:VEVENT
END:VCALENDAR
