BEGIN:VCALENDAR
VERSION:2.0
PRODID:-//Squarespace Inc/Squarespace 6//v6//EN
BEGIN:VEVENT
UID:5a72757fe4966b2c0149d94c@squarespace.com
DTSTAMP:20180201T021533Z
DTSTART:20180226T143000Z
DTEND:20180319T143000Z
SUMMARY:Intro to Yoga: 4 Weeks to a New You
GEO:-35.730879;174.325808
LOCATION:The Loft Studio\, 51 Commerce Street\, Whangarei\, Northland\, 011
 0\, New Zealand
END:VEVENT
END:VCALENDAR
