BEGIN:VCALENDAR
VERSION:2.0
PRODID:-//Squarespace Inc/Squarespace 6//v6//EN
BEGIN:VEVENT
UID:5a7274330852294e6a145325@squarespace.com
DTSTAMP:20180201T021239Z
DTSTART:20180211T180000Z
DTEND:20180211T200000Z
SUMMARY:Yoga 101:  Let's Start at the Beginning 
END:VEVENT
END:VCALENDAR
