BEGIN:VCALENDAR
VERSION:2.0
PRODID:-//Squarespace Inc/Squarespace 6//v6//EN
BEGIN:VEVENT
UID:5a960612652deaeda08c35eb@squarespace.com
DTSTAMP:20180228T013942Z
DTSTART:20180311T140000Z
DTEND:20180311T180000Z
SUMMARY:Nature's Path: Raw and Fermented Foods\, Essential Oils and Yoga
END:VEVENT
END:VCALENDAR
