BEGIN:VCALENDAR
VERSION:2.0
PRODID:-//Squarespace Inc/Squarespace 6//v6//EN
BEGIN:VEVENT
UID:5a96074853450a754a4ffd86@squarespace.com
DTSTAMP:20180228T013852Z
DTSTART:20180318T170000Z
DTEND:20180318T190000Z
SUMMARY:Finding Space in the Shoulders\, Neck\, and Upper Back
END:VEVENT
END:VCALENDAR
