BEGIN:VCALENDAR
VERSION:2.0
PRODID:-//Squarespace Inc/Squarespace 6//v6//EN
BEGIN:VEVENT
UID:5ac061bd88251bcf7a31267c@squarespace.com
DTSTAMP:20180528T011912Z
DTSTART:20180825T200000Z
DTEND:20180830T150000Z
SUMMARY:BREATH\, STRETCH\, UNWIND Samoa Yoga Retreat 2018 
GEO:-14.039103;-171.582948
LOCATION:Saletoga Sands Resort and Spa\, Matatufu\, Samoa
END:VEVENT
END:VCALENDAR
