BEGIN:VCALENDAR
VERSION:2.0
PRODID:-//Squarespace Inc/Squarespace 6//v6//EN
BEGIN:VEVENT
UID:5cae6e4d4e17b647ae1a5863@squarespace.com
DTSTAMP:20190410T230021Z
DTSTART:20190414T180000Z
DTEND:20190414T194500Z
SUMMARY:Finding Space: Let's Get Hippy 
GEO:-35.730879;174.325808
LOCATION:The Loft Studio\, 51 Commerce Street\, Whangarei\, New Zealand
END:VEVENT
END:VCALENDAR
