BEGIN:VCALENDAR
VERSION:2.0
PRODID:-//Squarespace Inc/Squarespace 6//v6//EN
BEGIN:VEVENT
UID:5cae70b09140b784585a6ded@squarespace.com
DTSTAMP:20190410T225355Z
DTSTART:20190427T140000Z
DTEND:20190427T190000Z
SUMMARY:The Fire Within &amp\; Within the Embers
GEO:-37.141059;175.543509
LOCATION:Health Groove\, 424b Pollen Street\, Thames\, Waikato\, 3500\, New 
 Zealand
END:VEVENT
END:VCALENDAR
