BEGIN:VCALENDAR
VERSION:2.0
PRODID:-//Squarespace Inc/Squarespace 6//v6//EN
BEGIN:VEVENT
UID:5cf32104e8f5e20001f83235@squarespace.com
DTSTAMP:20190602T011013Z
DTSTART:20190623T180000Z
DTEND:20190623T200000Z
SUMMARY:The Fire Within
GEO:-35.730879;174.325808
LOCATION:The Loft Studio\, 51 Commerce street\, Whangarei\, New Zealand
END:VEVENT
END:VCALENDAR
