BEGIN:VCALENDAR
VERSION:2.0
PRODID:-//Squarespace Inc/Squarespace 6//v6//EN
BEGIN:VEVENT
UID:5cf31f08c4db2400010c530d@squarespace.com
DTSTAMP:20190602T011137Z
DTSTART:20190628T213000Z
DTEND:20190629T203000Z
SUMMARY:Unleash the Wildfire and Within the Embers Workshops
GEO:-37.638654;176.183627
LOCATION:Mount Yoga\, Mt. Maunganui\, Tauranga\, New Zealand
END:VEVENT
END:VCALENDAR
