BEGIN:VCALENDAR
VERSION:2.0
PRODID:-//Squarespace Inc/Squarespace 6//v6//EN
BEGIN:VEVENT
UID:5c99627c7817f7e0acef6d81@squarespace.com
DTSTAMP:20190602T034529Z
DTSTART:20190908T210000Z
DTEND:20190915T170000Z
SUMMARY:Breathe\, Stretch\, Unwind 2.0
GEO:-14.041958;-171.596156
LOCATION:Saletoga sands Resort and Spa\, samoa
END:VEVENT
END:VCALENDAR
