BEGIN:VCALENDAR
VERSION:2.0
PRODID:-//Squarespace Inc/Squarespace 6//v6//EN
BEGIN:VEVENT
UID:5d87dda81d47f93691562d72@squarespace.com
DTSTAMP:20190924T213011Z
DTSTART:20200723T200000Z
DTEND:20200731T150000Z
SUMMARY:Yogafire in Bali 2020
GEO:-8.598167;115.338539
LOCATION:Hotel Komune\, Indonesia
END:VEVENT
END:VCALENDAR
