BEGIN:VCALENDAR
VERSION:2.0
PRODID:-//Squarespace Inc/Squarespace 6//v6//EN
BEGIN:VEVENT
UID:5a5aa2e30d9297b4ef492d0c@squarespace.com
DTSTAMP:20180114T080835Z
DTSTART:20180121T133000Z
DTEND:20180121T153000Z
SUMMARY:Vinyasa Outdoor Yoga Class
GEO:-36.795508;174.761904
LOCATION:Takapuna Beach\, Takapuna Landing\, Auckland\, Auckland\, 0622\, N
 ew Zealand
END:VEVENT
END:VCALENDAR
