BEGIN:VCALENDAR
VERSION:2.0
PRODID:-//Squarespace Inc/Squarespace 6//v6//EN
BEGIN:VEVENT
UID:5a5b0fb1652dea4cd2b52049@squarespace.com
DTSTAMP:20180124T032237Z
DTSTART:20180128T133000Z
DTEND:20180128T143000Z
SUMMARY:Sweat Sundays with Lululemon Takapuna
GEO:-36.795508;174.761904
LOCATION:Takapuna Beach\, Takapuna Landing\, Auckland\, Auckland\, 0622\, N
 ew Zealand
END:VEVENT
END:VCALENDAR
