BEGIN:VCALENDAR
VERSION:2.0
PRODID:-//Squarespace Inc/Squarespace 6//v6//EN
BEGIN:VEVENT
UID:5cc5134f9140b7ee61e2fa4e@squarespace.com
DTSTAMP:20190428T193916Z
DTSTART:20190501T110000Z
DTEND:20190531T110000Z
SUMMARY:30 Day Yoga Challenge 
GEO:-35.730879;174.325808
LOCATION:The Loft Studio\, 51 Commerce Street\, Whangarei\, New Zealand
END:VEVENT
END:VCALENDAR
